BEGIN:VCALENDAR
VERSION:2.0
PRODID:-//Dunaszentgyörgy Község - ECPv6.15.17.1//NONSGML v1.0//EN
CALSCALE:GREGORIAN
METHOD:PUBLISH
X-ORIGINAL-URL:https://dunaszentgyorgy.hu
X-WR-CALDESC:Események Dunaszentgyörgy Község
REFRESH-INTERVAL;VALUE=DURATION:PT1H
X-Robots-Tag:noindex
X-PUBLISHED-TTL:PT1H
BEGIN:VTIMEZONE
TZID:UTC
BEGIN:STANDARD
TZOFFSETFROM:+0000
TZOFFSETTO:+0000
TZNAME:UTC
DTSTART:20240101T000000
END:STANDARD
END:VTIMEZONE
BEGIN:VEVENT
DTSTART;VALUE=DATE:20250926
DTEND;VALUE=DATE:20250928
DTSTAMP:20260423T052156
CREATED:20250904T123438Z
LAST-MODIFIED:20250916T124254Z
UID:1725-1758844800-1759017599@dunaszentgyorgy.hu
SUMMARY:Szüreti napok 2025.
DESCRIPTION:Főzőverseny jelentkezési lap – letöltés >>> \nSzüreti sütiverseny nevezési lap – letöltés >>>
URL:https://dunaszentgyorgy.hu/event/szureti-napok-2025/
LOCATION:Dunaszentgyörgy\, Dunaszentgyörgy\, 7135
END:VEVENT
END:VCALENDAR