BEGIN:VCALENDAR
VERSION:2.0
PRODID:-//Dunaszentgyörgy Község - ECPv6.15.17.1//NONSGML v1.0//EN
CALSCALE:GREGORIAN
METHOD:PUBLISH
X-ORIGINAL-URL:https://dunaszentgyorgy.hu
X-WR-CALDESC:Események Dunaszentgyörgy Község
REFRESH-INTERVAL;VALUE=DURATION:PT1H
X-Robots-Tag:noindex
X-PUBLISHED-TTL:PT1H
BEGIN:VTIMEZONE
TZID:UTC
BEGIN:STANDARD
TZOFFSETFROM:+0000
TZOFFSETTO:+0000
TZNAME:UTC
DTSTART:20230101T000000
END:STANDARD
END:VTIMEZONE
BEGIN:VEVENT
DTSTART;VALUE=DATE:20240428
DTEND;VALUE=DATE:20240429
DTSTAMP:20260423T040557
CREATED:20240206T103932Z
LAST-MODIFIED:20240206T103932Z
UID:1109-1714262400-1714348799@dunaszentgyorgy.hu
SUMMARY:Dunaszentgyörgyi búcsú
DESCRIPTION:
URL:https://dunaszentgyorgy.hu/event/dunaszentgyorgyi-bucsu/
LOCATION:Dunaszentgyörgy\, Dunaszentgyörgy\, 7135
ATTACH;FMTTYPE=image/png:https://dunaszentgyorgy.hu/wp-content/uploads/2024/02/szentgyorgyi-bucsu.png
END:VEVENT
END:VCALENDAR