BEGIN:VCALENDAR
VERSION:2.0
PRODID:-//Dunaszentgyörgy Község - ECPv6.15.17.1//NONSGML v1.0//EN
CALSCALE:GREGORIAN
METHOD:PUBLISH
X-ORIGINAL-URL:https://dunaszentgyorgy.hu
X-WR-CALDESC:Események Dunaszentgyörgy Község
REFRESH-INTERVAL;VALUE=DURATION:PT1H
X-Robots-Tag:noindex
X-PUBLISHED-TTL:PT1H
BEGIN:VTIMEZONE
TZID:UTC
BEGIN:STANDARD
TZOFFSETFROM:+0000
TZOFFSETTO:+0000
TZNAME:UTC
DTSTART:20220101T000000
END:STANDARD
END:VTIMEZONE
BEGIN:VEVENT
DTSTART;VALUE=DATE:20230423
DTEND;VALUE=DATE:20230424
DTSTAMP:20260423T181004
CREATED:20230331T085459Z
LAST-MODIFIED:20230331T085459Z
UID:916-1682208000-1682294399@dunaszentgyorgy.hu
SUMMARY:Szentgyörgyi Búcsú
DESCRIPTION:A SZENTGYÖRGYI BÚCSÚ 2023. ÁPRILIS 23-ÁN\, VASÁRNAP kerül megrendezésre.\nA helyszín változatlan: A SZÉCHENYI UTCA ÉS AZ UTCA VÉGÉN LÉVŐ FÜVES TERÜLET. \nMegkérjük azon szolgáltatókat (körhintások\, céllövöldések) és kereskedőket\, akik már a búcsú napja előtt érkeznek\, hogy szíveskedjenek bejelentkezni a Polgármesteri Hivatalban! \n(Cím: 7135. Dunaszentgyörgy\, Rákóczi F. u. 90.\, telefon: 06/75536113) \nDunaszentgyörgy Község Önkormányzata
URL:https://dunaszentgyorgy.hu/event/szentgyorgyi-bucsu/
LOCATION:Dunaszentgyörgy\, Dunaszentgyörgy\, 7135
ATTACH;FMTTYPE=image/png:https://dunaszentgyorgy.hu/wp-content/uploads/2023/03/Szentgyorgyi-Bucsu.png
END:VEVENT
END:VCALENDAR