BEGIN:VCALENDAR
VERSION:2.0
PRODID:-//Dunaszentgyörgy Község - ECPv6.15.17.1//NONSGML v1.0//EN
CALSCALE:GREGORIAN
METHOD:PUBLISH
X-WR-CALNAME:Dunaszentgyörgy Község
X-ORIGINAL-URL:https://dunaszentgyorgy.hu
X-WR-CALDESC:Események Dunaszentgyörgy Község
REFRESH-INTERVAL;VALUE=DURATION:PT1H
X-Robots-Tag:noindex
X-PUBLISHED-TTL:PT1H
BEGIN:VTIMEZONE
TZID:UTC
BEGIN:STANDARD
TZOFFSETFROM:+0000
TZOFFSETTO:+0000
TZNAME:UTC
DTSTART:20210101T000000
END:STANDARD
END:VTIMEZONE
BEGIN:VEVENT
DTSTART;TZID=UTC:20221001T070000
DTEND;TZID=UTC:20221001T220000
DTSTAMP:20260424T024210
CREATED:20220909T085342Z
LAST-MODIFIED:20220909T091447Z
UID:795-1664607600-1664661600@dunaszentgyorgy.hu
SUMMARY:Falunap-Szüreti felvonulás
DESCRIPTION:
URL:https://dunaszentgyorgy.hu/event/falunap-szureti-felvonulas/
LOCATION:Dunaszentgyörgy\, Dunaszentgyörgy\, 7135
END:VEVENT
END:VCALENDAR